BEGIN:VCALENDAR
VERSION:2.0
CALSCALE:GREGORIAN
PRODID:-//Diputació de Barcelona//DibaCMS//EN
BEGIN:VEVENT
UID:21916
DTSTAMP:20260425T183035
DTSTART:20080801T000000
DTEND:20080803T000000
SUMMARY:Barri de Can Bonastre
LOCATION:
METHOD:PUBLISH
X-WR-CALNAME:e-seu@ajpiera.cat
X-WR-TIMEZONE:Europe/Madrid
DESCRIPTION:Barri de Can Bonastre
URI:https://www.viladepiera.cat/actualitat/agenda/barri-de-can-bonastre.html
CLASS:PUBLIC
END:VEVENT
END:VCALENDAR
