BEGIN:VCALENDAR
VERSION:2.0
CALSCALE:GREGORIAN
PRODID:-//Diputació de Barcelona//DibaCMS//EN
BEGIN:VEVENT
UID:21918
DTSTAMP:20260425T143651
DTSTART:20080801T193000
DTEND:20080801T000000
SUMMARY:Exposició: Gran ball de màscares
LOCATION:
METHOD:PUBLISH
X-WR-CALNAME:e-seu@ajpiera.cat
X-WR-TIMEZONE:Europe/Madrid
DESCRIPTION:Inauguració de l'exposició.
URI:https://www.viladepiera.cat/actualitat/agenda/exposicio-gran-ball-de-mascares.html
CLASS:PUBLIC
END:VEVENT
END:VCALENDAR
