BEGIN:VCALENDAR
VERSION:2.0
CALSCALE:GREGORIAN
PRODID:-//Diputació de Barcelona//DibaCMS//EN
BEGIN:VEVENT
UID:21922
DTSTAMP:20260424T222151
DTSTART:20080811T000000
DTEND:20080817T000000
SUMMARY:La Venta Can Musarro
LOCATION:
METHOD:PUBLISH
X-WR-CALNAME:e-seu@ajpiera.cat
X-WR-TIMEZONE:Europe/Madrid
DESCRIPTION:La Venta Can Musarro
URI:https://www.viladepiera.cat/actualitat/agenda/la-venta-can-musarro.html
CLASS:PUBLIC
END:VEVENT
END:VCALENDAR
