BEGIN:VCALENDAR
VERSION:2.0
CALSCALE:GREGORIAN
PRODID:-//Diputació de Barcelona//DibaCMS//EN
BEGIN:VEVENT
UID:21924
DTSTAMP:20260425T145742
DTSTART:20080823T193000
DTEND:20080823T000000
SUMMARY:Partit de pretemporada 2008-2009 AE Piera-Capellades CF
LOCATION:
METHOD:PUBLISH
X-WR-CALNAME:e-seu@ajpiera.cat
X-WR-TIMEZONE:Europe/Madrid
DESCRIPTION:Partit de pretemporada 2a territorial AE Piera vs. Capellades
URI:https://www.viladepiera.cat/actualitat/agenda/partit-de-pretemporada-2008-2009-ae-piera-capellades-cf.html
CLASS:PUBLIC
END:VEVENT
END:VCALENDAR
