BEGIN:VCALENDAR
VERSION:2.0
CALSCALE:GREGORIAN
PRODID:-//Diputació de Barcelona//DibaCMS//EN
BEGIN:VEVENT
UID:21925
DTSTAMP:20260425T200606
DTSTART:20080828T000000
DTEND:20080831T000000
SUMMARY:Barri del Bedorc
LOCATION:
METHOD:PUBLISH
X-WR-CALNAME:e-seu@ajpiera.cat
X-WR-TIMEZONE:Europe/Madrid
DESCRIPTION:Barri del Bedorc
URI:https://www.viladepiera.cat/actualitat/agenda/barri-del-bedorc.html
CLASS:PUBLIC
END:VEVENT
END:VCALENDAR
