BEGIN:VCALENDAR
VERSION:2.0
CALSCALE:GREGORIAN
PRODID:-//Diputació de Barcelona//DibaCMS//EN
BEGIN:VEVENT
UID:21929
DTSTAMP:20260425T160525
DTSTART:20080904T210000
DTEND:20080904T000000
SUMMARY:Partit de pretemporada 2008-2009 AE Piera-Hortonenc FC
LOCATION:
METHOD:PUBLISH
X-WR-CALNAME:e-seu@ajpiera.cat
X-WR-TIMEZONE:Europe/Madrid
DESCRIPTION:2n partit de pretemporada 2008-09 AE Piera-Hortonenc FC
URI:https://www.viladepiera.cat/actualitat/agenda/partit-de-pretemporada-2008-2009-ae-piera-hortonenc-fc.html
CLASS:PUBLIC
END:VEVENT
END:VCALENDAR
