BEGIN:VCALENDAR
VERSION:2.0
CALSCALE:GREGORIAN
PRODID:-//Diputació de Barcelona//DibaCMS//EN
BEGIN:VEVENT
UID:21930
DTSTAMP:20260425T172727
DTSTART:20080904T190000
DTEND:20080904T000000
SUMMARY:Exposició "Paisatges del desert de Takial"
LOCATION:
METHOD:PUBLISH
X-WR-CALNAME:e-seu@ajpiera.cat
X-WR-TIMEZONE:Europe/Madrid
DESCRIPTION:Exposició "Paisatges del desert de Takial"
URI:https://www.viladepiera.cat/actualitat/agenda/exposicio-paisatges-del-desert-de-takial.html
CLASS:PUBLIC
END:VEVENT
END:VCALENDAR
