BEGIN:VCALENDAR
VERSION:2.0
CALSCALE:GREGORIAN
PRODID:-//Diputació de Barcelona//DibaCMS//EN
BEGIN:VEVENT
UID:21934
DTSTAMP:20260425T155326
DTSTART:20080905T000000
DTEND:20080911T000000
SUMMARY:Tren Turístic
LOCATION:
METHOD:PUBLISH
X-WR-CALNAME:e-seu@ajpiera.cat
X-WR-TIMEZONE:Europe/Madrid
DESCRIPTION:Tren Turístic
URI:https://www.viladepiera.cat/actualitat/agenda/tren-turistic.html
CLASS:PUBLIC
END:VEVENT
END:VCALENDAR
