BEGIN:VCALENDAR
VERSION:2.0
CALSCALE:GREGORIAN
PRODID:-//Diputació de Barcelona//DibaCMS//EN
BEGIN:VEVENT
UID:21936
DTSTAMP:20260425T160920
DTSTART:20080906T160000
DTEND:20080906T000000
SUMMARY:Torneig Vila de Piera de Veterans de Futbol
LOCATION:
METHOD:PUBLISH
X-WR-CALNAME:e-seu@ajpiera.cat
X-WR-TIMEZONE:Europe/Madrid
DESCRIPTION:Torneig Vila de Piera de Veterans de Futbol
URI:https://www.viladepiera.cat/actualitat/agenda/torneig-vila-de-piera-de-veterans-de-futbol.html
CLASS:PUBLIC
END:VEVENT
END:VCALENDAR
