BEGIN:VCALENDAR
VERSION:2.0
CALSCALE:GREGORIAN
PRODID:-//Diputació de Barcelona//DibaCMS//EN
BEGIN:VEVENT
UID:21937
DTSTAMP:20260425T170544
DTSTART:20080906T180000
DTEND:20080906T000000
SUMMARY:XIII Trobada Gegantera de Piera
LOCATION:
METHOD:PUBLISH
X-WR-CALNAME:e-seu@ajpiera.cat
X-WR-TIMEZONE:Europe/Madrid
DESCRIPTION:XIII Trobada Gegantera de Piera
URI:https://www.viladepiera.cat/actualitat/agenda/xiii-trobada-gegantera-de-piera.html
CLASS:PUBLIC
END:VEVENT
END:VCALENDAR
