BEGIN:VCALENDAR
VERSION:2.0
CALSCALE:GREGORIAN
PRODID:-//Diputació de Barcelona//DibaCMS//EN
BEGIN:VEVENT
UID:21938
DTSTAMP:20260425T144731
DTSTART:20080906T180000
DTEND:20080906T000000
SUMMARY:XXIII Trobada de pubillatge
LOCATION:
METHOD:PUBLISH
X-WR-CALNAME:e-seu@ajpiera.cat
X-WR-TIMEZONE:Europe/Madrid
DESCRIPTION:XXIII Trobada de pubillatge
URI:https://www.viladepiera.cat/actualitat/agenda/xxiii-trobada-de-pubillatge.html
CLASS:PUBLIC
END:VEVENT
END:VCALENDAR
