BEGIN:VCALENDAR
VERSION:2.0
CALSCALE:GREGORIAN
PRODID:-//Diputació de Barcelona//DibaCMS//EN
BEGIN:VEVENT
UID:21940
DTSTAMP:20260425T194932
DTSTART:20080906T193000
DTEND:20080906T000000
SUMMARY:Ballada de Gegants
LOCATION:
METHOD:PUBLISH
X-WR-CALNAME:e-seu@ajpiera.cat
X-WR-TIMEZONE:Europe/Madrid
DESCRIPTION:Ballada de Gegants
URI:https://www.viladepiera.cat/actualitat/agenda/ballada-de-gegants.html
CLASS:PUBLIC
END:VEVENT
END:VCALENDAR
