BEGIN:VCALENDAR
VERSION:2.0
CALSCALE:GREGORIAN
PRODID:-//Diputació de Barcelona//DibaCMS//EN
BEGIN:VEVENT
UID:21941
DTSTAMP:20260425T143303
DTSTART:20080906T210000
DTEND:20080906T000000
SUMMARY:Melodías de Broadway
LOCATION:
METHOD:PUBLISH
X-WR-CALNAME:e-seu@ajpiera.cat
X-WR-TIMEZONE:Europe/Madrid
DESCRIPTION:Melodías de Broadway
URI:https://www.viladepiera.cat/actualitat/agenda/melodias-de-broadway.html
CLASS:PUBLIC
END:VEVENT
END:VCALENDAR
