BEGIN:VCALENDAR
VERSION:2.0
CALSCALE:GREGORIAN
PRODID:-//Diputació de Barcelona//DibaCMS//EN
BEGIN:VEVENT
UID:21942
DTSTAMP:20260425T171059
DTSTART:20080906T220000
DTEND:20080906T000000
SUMMARY:Cercavila de Foc
LOCATION:
METHOD:PUBLISH
X-WR-CALNAME:e-seu@ajpiera.cat
X-WR-TIMEZONE:Europe/Madrid
DESCRIPTION:Cercavila de Foc
URI:https://www.viladepiera.cat/actualitat/agenda/cercavila-de-foc.html
CLASS:PUBLIC
END:VEVENT
END:VCALENDAR
