BEGIN:VCALENDAR
VERSION:2.0
CALSCALE:GREGORIAN
PRODID:-//Diputació de Barcelona//DibaCMS//EN
BEGIN:VEVENT
UID:21944
DTSTAMP:20260425T211746
DTSTART:20080907T110000
DTEND:20080907T200000
SUMMARY:Activitats per als menuts 2
LOCATION:
METHOD:PUBLISH
X-WR-CALNAME:e-seu@ajpiera.cat
X-WR-TIMEZONE:Europe/Madrid
DESCRIPTION:Activitats per als menuts 2
URI:https://www.viladepiera.cat/actualitat/agenda/activitats-per-als-menuts-2.html
CLASS:PUBLIC
END:VEVENT
END:VCALENDAR
