BEGIN:VCALENDAR
VERSION:2.0
CALSCALE:GREGORIAN
PRODID:-//Diputació de Barcelona//DibaCMS//EN
BEGIN:VEVENT
UID:21945
DTSTAMP:20260425T194857
DTSTART:20080907T120000
DTEND:20080907T000000
SUMMARY:Sorteig Concurs de Teatre
LOCATION:
METHOD:PUBLISH
X-WR-CALNAME:e-seu@ajpiera.cat
X-WR-TIMEZONE:Europe/Madrid
DESCRIPTION:Sorteig Concurs de Teatre
URI:https://www.viladepiera.cat/actualitat/agenda/sorteig-concurs-de-teatre.html
CLASS:PUBLIC
END:VEVENT
END:VCALENDAR
