BEGIN:VCALENDAR
VERSION:2.0
CALSCALE:GREGORIAN
PRODID:-//Diputació de Barcelona//DibaCMS//EN
BEGIN:VEVENT
UID:21946
DTSTAMP:20260425T160113
DTSTART:20080907T220000
DTEND:20080907T000000
SUMMARY:Memòria Històrica "L'evolució d'un poble"
LOCATION:
METHOD:PUBLISH
X-WR-CALNAME:e-seu@ajpiera.cat
X-WR-TIMEZONE:Europe/Madrid
DESCRIPTION:Memòria Històrica "L'evolució d'un poble"
URI:https://www.viladepiera.cat/actualitat/agenda/memoria-historica-levolucio-dun-poble.html
CLASS:PUBLIC
END:VEVENT
END:VCALENDAR
