BEGIN:VCALENDAR
VERSION:2.0
CALSCALE:GREGORIAN
PRODID:-//Diputació de Barcelona//DibaCMS//EN
BEGIN:VEVENT
UID:21948
DTSTAMP:20260425T143742
DTSTART:20080908T111500
DTEND:20080908T000000
SUMMARY:Ofici solemne
LOCATION:
METHOD:PUBLISH
X-WR-CALNAME:e-seu@ajpiera.cat
X-WR-TIMEZONE:Europe/Madrid
DESCRIPTION:Ofici solemne
URI:https://www.viladepiera.cat/actualitat/agenda/ofici-solemne.html
CLASS:PUBLIC
END:VEVENT
END:VCALENDAR
