BEGIN:VCALENDAR
VERSION:2.0
CALSCALE:GREGORIAN
PRODID:-//Diputació de Barcelona//DibaCMS//EN
BEGIN:VEVENT
UID:21949
DTSTAMP:20260425T135849
DTSTART:20080908T123000
DTEND:20080908T000000
SUMMARY:50è aniversari de la Piscina Municipal
LOCATION:
METHOD:PUBLISH
X-WR-CALNAME:e-seu@ajpiera.cat
X-WR-TIMEZONE:Europe/Madrid
DESCRIPTION:50è aniversari de la Piscina Municipal
URI:https://www.viladepiera.cat/actualitat/agenda/50e-aniversari-de-la-piscina-municipal.html
CLASS:PUBLIC
END:VEVENT
END:VCALENDAR
