BEGIN:VCALENDAR
VERSION:2.0
CALSCALE:GREGORIAN
PRODID:-//Diputació de Barcelona//DibaCMS//EN
BEGIN:VEVENT
UID:21954
DTSTAMP:20260425T132242
DTSTART:20080908T230000
DTEND:20080908T000000
SUMMARY:Actuació dels ALHAMBRA
LOCATION:
METHOD:PUBLISH
X-WR-CALNAME:e-seu@ajpiera.cat
X-WR-TIMEZONE:Europe/Madrid
DESCRIPTION:Actuació dels ALHAMBRA
URI:https://www.viladepiera.cat/actualitat/agenda/actuacio-dels-alhambra.html
CLASS:PUBLIC
END:VEVENT
END:VCALENDAR
