BEGIN:VCALENDAR
VERSION:2.0
CALSCALE:GREGORIAN
PRODID:-//Diputació de Barcelona//DibaCMS//EN
BEGIN:VEVENT
UID:21956
DTSTAMP:20260425T145838
DTSTART:20080910T220000
DTEND:20080910T000000
SUMMARY:Festival de Patinatge 2
LOCATION:
METHOD:PUBLISH
X-WR-CALNAME:e-seu@ajpiera.cat
X-WR-TIMEZONE:Europe/Madrid
DESCRIPTION:Festival de Patinatge 2
URI:https://www.viladepiera.cat/actualitat/agenda/festival-de-patinatge-2.html
CLASS:PUBLIC
END:VEVENT
END:VCALENDAR
