BEGIN:VCALENDAR
VERSION:2.0
CALSCALE:GREGORIAN
PRODID:-//Diputació de Barcelona//DibaCMS//EN
BEGIN:VEVENT
UID:21957
DTSTAMP:20260425T134513
DTSTART:20080911T113000
DTEND:20080911T000000
SUMMARY:Missa de la Diada
LOCATION:
METHOD:PUBLISH
X-WR-CALNAME:e-seu@ajpiera.cat
X-WR-TIMEZONE:Europe/Madrid
DESCRIPTION:Missa de la Diada
URI:https://www.viladepiera.cat/actualitat/agenda/missa-de-la-diada.html
CLASS:PUBLIC
END:VEVENT
END:VCALENDAR
