BEGIN:VCALENDAR
VERSION:2.0
CALSCALE:GREGORIAN
PRODID:-//Diputació de Barcelona//DibaCMS//EN
BEGIN:VEVENT
UID:21964
DTSTAMP:20260425T121842
DTSTART:20080911T220000
DTEND:20080911T000000
SUMMARY:Memòria Històrica "La guerra que ningú va guanyar"
LOCATION:
METHOD:PUBLISH
X-WR-CALNAME:e-seu@ajpiera.cat
X-WR-TIMEZONE:Europe/Madrid
DESCRIPTION:Memòria Històrica "La guerra que ningú va guanyar"
URI:https://www.viladepiera.cat/actualitat/agenda/memoria-historica-la-guerra-que-ningu-va-guanyar.html
CLASS:PUBLIC
END:VEVENT
END:VCALENDAR
