BEGIN:VCALENDAR
VERSION:2.0
CALSCALE:GREGORIAN
PRODID:-//Diputació de Barcelona//DibaCMS//EN
BEGIN:VEVENT
UID:21970
DTSTAMP:20260425T183718
DTSTART:20080913T235500
DTEND:20080913T000000
SUMMARY:Actuació de LOS STOMPERS
LOCATION:
METHOD:PUBLISH
X-WR-CALNAME:e-seu@ajpiera.cat
X-WR-TIMEZONE:Europe/Madrid
DESCRIPTION:Actuació de LOS STOMPERS
URI:https://www.viladepiera.cat/actualitat/agenda/actuacio-de-los-stompers.html
CLASS:PUBLIC
END:VEVENT
END:VCALENDAR
