BEGIN:VCALENDAR
VERSION:2.0
CALSCALE:GREGORIAN
PRODID:-//Diputació de Barcelona//DibaCMS//EN
BEGIN:VEVENT
UID:21975
DTSTAMP:20260425T134910
DTSTART:20080919T193000
DTEND:20080919T000000
SUMMARY:Guatemala al s. XXI
LOCATION:
METHOD:PUBLISH
X-WR-CALNAME:e-seu@ajpiera.cat
X-WR-TIMEZONE:Europe/Madrid
DESCRIPTION:Guatemala al s. XXI
URI:https://www.viladepiera.cat/actualitat/agenda/guatemala-al-s-xxi.html
CLASS:PUBLIC
END:VEVENT
END:VCALENDAR
