BEGIN:VCALENDAR
VERSION:2.0
CALSCALE:GREGORIAN
PRODID:-//Diputació de Barcelona//DibaCMS//EN
BEGIN:VEVENT
UID:21976
DTSTAMP:20260425T121707
DTSTART:20080919T200000
DTEND:20080919T000000
SUMMARY:Reunió Pierestiu
LOCATION:
METHOD:PUBLISH
X-WR-CALNAME:e-seu@ajpiera.cat
X-WR-TIMEZONE:Europe/Madrid
DESCRIPTION:Reunió Pierestiu
URI:https://www.viladepiera.cat/actualitat/agenda/reunio-pierestiu.html
CLASS:PUBLIC
END:VEVENT
END:VCALENDAR
