BEGIN:VCALENDAR
VERSION:2.0
CALSCALE:GREGORIAN
PRODID:-//Diputació de Barcelona//DibaCMS//EN
BEGIN:VEVENT
UID:21977
DTSTAMP:20260425T123655
DTSTART:20080920T100000
DTEND:20080920T210000
SUMMARY:Presentació HC Piera (Nova temporada)
LOCATION:
METHOD:PUBLISH
X-WR-CALNAME:e-seu@ajpiera.cat
X-WR-TIMEZONE:Europe/Madrid
DESCRIPTION:Presentació HC Piera (Nova temporada)
URI:https://www.viladepiera.cat/actualitat/agenda/presentacio-hc-piera-nova-temporada.html
CLASS:PUBLIC
END:VEVENT
END:VCALENDAR
