BEGIN:VCALENDAR
VERSION:2.0
CALSCALE:GREGORIAN
PRODID:-//Diputació de Barcelona//DibaCMS//EN
BEGIN:VEVENT
UID:21982
DTSTAMP:20260425T121942
DTSTART:20080927T000000
DTEND:20080927T000000
SUMMARY:Portes Obertes Espai Entitats
LOCATION:
METHOD:PUBLISH
X-WR-CALNAME:e-seu@ajpiera.cat
X-WR-TIMEZONE:Europe/Madrid
DESCRIPTION:Portes Obertes Espai Entitats
URI:https://www.viladepiera.cat/actualitat/agenda/portes-obertes-espai-entitats.html
CLASS:PUBLIC
END:VEVENT
END:VCALENDAR
