BEGIN:VCALENDAR
VERSION:2.0
CALSCALE:GREGORIAN
PRODID:-//Diputació de Barcelona//DibaCMS//EN
BEGIN:VEVENT
UID:21983
DTSTAMP:20260425T155238
DTSTART:20080927T110000
DTEND:20080927T130000
SUMMARY:Presentació del nou Bus
LOCATION:
METHOD:PUBLISH
X-WR-CALNAME:e-seu@ajpiera.cat
X-WR-TIMEZONE:Europe/Madrid
DESCRIPTION:Presentació del nou Bus
URI:https://www.viladepiera.cat/actualitat/agenda/presentacio-del-nou-bus.html
CLASS:PUBLIC
END:VEVENT
END:VCALENDAR
