BEGIN:VCALENDAR
VERSION:2.0
CALSCALE:GREGORIAN
PRODID:-//Diputació de Barcelona//DibaCMS//EN
BEGIN:VEVENT
UID:21996
DTSTAMP:20260425T170730
DTSTART:20081012T180000
DTEND:20081012T000000
SUMMARY:Desfilada UBIC
LOCATION:
METHOD:PUBLISH
X-WR-CALNAME:e-seu@ajpiera.cat
X-WR-TIMEZONE:Europe/Madrid
DESCRIPTION:Desfilada UBIC
URI:https://www.viladepiera.cat/actualitat/agenda/21996-desfilada-ubic.html
CLASS:PUBLIC
END:VEVENT
END:VCALENDAR
