BEGIN:VCALENDAR
VERSION:2.0
CALSCALE:GREGORIAN
PRODID:-//Diputació de Barcelona//DibaCMS//EN
BEGIN:VEVENT
UID:21999
DTSTAMP:20260425T133939
DTSTART:20081017T220000
DTEND:20081017T000000
SUMMARY:HC Piera-CP Folgueroles
LOCATION:
METHOD:PUBLISH
X-WR-CALNAME:e-seu@ajpiera.cat
X-WR-TIMEZONE:Europe/Madrid
DESCRIPTION:HC Piera-CP Folgueroles
URI:https://www.viladepiera.cat/actualitat/agenda/hc-piera-cp-folgueroles.html
CLASS:PUBLIC
END:VEVENT
END:VCALENDAR
