BEGIN:VCALENDAR
VERSION:2.0
CALSCALE:GREGORIAN
PRODID:-//Diputació de Barcelona//DibaCMS//EN
BEGIN:VEVENT
UID:22002
DTSTAMP:20260425T133838
DTSTART:20081018T130000
DTEND:20081018T000000
SUMMARY:HC Piera-CHP Folgueroles
LOCATION:
METHOD:PUBLISH
X-WR-CALNAME:e-seu@ajpiera.cat
X-WR-TIMEZONE:Europe/Madrid
DESCRIPTION:HC Piera-CHP Folgueroles
URI:https://www.viladepiera.cat/actualitat/agenda/hc-piera-chp-folgueroles.html
CLASS:PUBLIC
END:VEVENT
END:VCALENDAR
