BEGIN:VCALENDAR
VERSION:2.0
CALSCALE:GREGORIAN
PRODID:-//Diputació de Barcelona//DibaCMS//EN
BEGIN:VEVENT
UID:22007
DTSTAMP:20260425T210348
DTSTART:20081018T160000
DTEND:20081018T000000
SUMMARY:AE Piera-Horta
LOCATION:
METHOD:PUBLISH
X-WR-CALNAME:e-seu@ajpiera.cat
X-WR-TIMEZONE:Europe/Madrid
DESCRIPTION:AE Piera-Horta
URI:https://www.viladepiera.cat/actualitat/agenda/ae-piera-horta.html
CLASS:PUBLIC
END:VEVENT
END:VCALENDAR
