BEGIN:VCALENDAR
VERSION:2.0
CALSCALE:GREGORIAN
PRODID:-//Diputació de Barcelona//DibaCMS//EN
BEGIN:VEVENT
UID:22009
DTSTAMP:20260425T134925
DTSTART:20081019T000000
DTEND:20081019T000000
SUMMARY:Romiatge a Montserrat
LOCATION:
METHOD:PUBLISH
X-WR-CALNAME:e-seu@ajpiera.cat
X-WR-TIMEZONE:Europe/Madrid
DESCRIPTION:Romiatge a Montserrat
URI:https://www.viladepiera.cat/actualitat/agenda/22009-romiatge-a-montserrat.html
CLASS:PUBLIC
END:VEVENT
END:VCALENDAR
