BEGIN:VCALENDAR
VERSION:2.0
CALSCALE:GREGORIAN
PRODID:-//Diputació de Barcelona//DibaCMS//EN
BEGIN:VEVENT
UID:22010
DTSTAMP:20260425T131843
DTSTART:20081019T110000
DTEND:20081019T000000
SUMMARY:EC Piera-CB Llívia
LOCATION:
METHOD:PUBLISH
X-WR-CALNAME:e-seu@ajpiera.cat
X-WR-TIMEZONE:Europe/Madrid
DESCRIPTION:EC Piera-CB Llívia
URI:https://www.viladepiera.cat/actualitat/agenda/ec-piera-cb-llivia.html
CLASS:PUBLIC
END:VEVENT
END:VCALENDAR
