BEGIN:VCALENDAR
VERSION:2.0
CALSCALE:GREGORIAN
PRODID:-//Diputació de Barcelona//DibaCMS//EN
BEGIN:VEVENT
UID:22011
DTSTAMP:20260425T145438
DTSTART:20081019T123000
DTEND:20081019T000000
SUMMARY:EC Piera-CB Pujolet Manresa
LOCATION:
METHOD:PUBLISH
X-WR-CALNAME:e-seu@ajpiera.cat
X-WR-TIMEZONE:Europe/Madrid
DESCRIPTION:EC Piera-CB Pujolet Manresa
URI:https://www.viladepiera.cat/actualitat/agenda/ec-piera-cb-pujolet-manresa.html
CLASS:PUBLIC
END:VEVENT
END:VCALENDAR
