BEGIN:VCALENDAR
VERSION:2.0
CALSCALE:GREGORIAN
PRODID:-//Diputació de Barcelona//DibaCMS//EN
BEGIN:VEVENT
UID:22015
DTSTAMP:20260425T194259
DTSTART:20081022T173000
DTEND:20081022T000000
SUMMARY:Taller infantil
LOCATION:
METHOD:PUBLISH
X-WR-CALNAME:e-seu@ajpiera.cat
X-WR-TIMEZONE:Europe/Madrid
DESCRIPTION:Per Tots Sants, capes i mocadors Grans
URI:https://www.viladepiera.cat/actualitat/agenda/taller-infantil.html
CLASS:PUBLIC
END:VEVENT
END:VCALENDAR
