BEGIN:VCALENDAR
VERSION:2.0
CALSCALE:GREGORIAN
PRODID:-//Diputació de Barcelona//DibaCMS//EN
BEGIN:VEVENT
UID:22016
DTSTAMP:20260425T142835
DTSTART:20081023T213000
DTEND:20081023T000000
SUMMARY:HC Piera-CP Voltregà
LOCATION:
METHOD:PUBLISH
X-WR-CALNAME:e-seu@ajpiera.cat
X-WR-TIMEZONE:Europe/Madrid
DESCRIPTION:HC Piera-CP Voltregà
URI:https://www.viladepiera.cat/actualitat/agenda/hc-piera-cp-voltrega.html
CLASS:PUBLIC
END:VEVENT
END:VCALENDAR
