BEGIN:VCALENDAR
VERSION:2.0
CALSCALE:GREGORIAN
PRODID:-//Diputació de Barcelona//DibaCMS//EN
BEGIN:VEVENT
UID:22020
DTSTAMP:20260425T182628
DTSTART:20081025T160000
DTEND:20081025T000000
SUMMARY:HC Piera-Igualada HC
LOCATION:
METHOD:PUBLISH
X-WR-CALNAME:e-seu@ajpiera.cat
X-WR-TIMEZONE:Europe/Madrid
DESCRIPTION:HC Piera-Igualada HC
URI:https://www.viladepiera.cat/actualitat/agenda/hc-piera-igualada-hc.html
CLASS:PUBLIC
END:VEVENT
END:VCALENDAR
