BEGIN:VCALENDAR
VERSION:2.0
CALSCALE:GREGORIAN
PRODID:-//Diputació de Barcelona//DibaCMS//EN
BEGIN:VEVENT
UID:22021
DTSTAMP:20260425T171749
DTSTART:20081025T180000
DTEND:20081025T000000
SUMMARY:HC Piera-CE Torrelavit
LOCATION:
METHOD:PUBLISH
X-WR-CALNAME:e-seu@ajpiera.cat
X-WR-TIMEZONE:Europe/Madrid
DESCRIPTION:HC Piera-CE Torrelavit
URI:https://www.viladepiera.cat/actualitat/agenda/hc-piera-ce-torrelavit.html
CLASS:PUBLIC
END:VEVENT
END:VCALENDAR
