BEGIN:VCALENDAR
VERSION:2.0
CALSCALE:GREGORIAN
PRODID:-//Diputació de Barcelona//DibaCMS//EN
BEGIN:VEVENT
UID:22022
DTSTAMP:20260425T122937
DTSTART:20081025T193000
DTEND:20081025T000000
SUMMARY:HC Piera-HC Vilaseca
LOCATION:
METHOD:PUBLISH
X-WR-CALNAME:e-seu@ajpiera.cat
X-WR-TIMEZONE:Europe/Madrid
DESCRIPTION:HC Piera-HC Vilaseca
URI:https://www.viladepiera.cat/actualitat/agenda/hc-piera-hc-vilaseca.html
CLASS:PUBLIC
END:VEVENT
END:VCALENDAR
