BEGIN:VCALENDAR
VERSION:2.0
CALSCALE:GREGORIAN
PRODID:-//Diputació de Barcelona//DibaCMS//EN
BEGIN:VEVENT
UID:22027
DTSTAMP:20260425T155557
DTSTART:20081027T190000
DTEND:20081027T000000
SUMMARY:Franquisme i memòria històrica
LOCATION:
METHOD:PUBLISH
X-WR-CALNAME:e-seu@ajpiera.cat
X-WR-TIMEZONE:Europe/Madrid
DESCRIPTION:Conferència a càrrec de Josep Ma Solé i Sabaté
URI:https://www.viladepiera.cat/actualitat/agenda/franquisme-i-memoria-historica.html
CLASS:PUBLIC
END:VEVENT
END:VCALENDAR
