BEGIN:VCALENDAR
VERSION:2.0
CALSCALE:GREGORIAN
PRODID:-//Diputació de Barcelona//DibaCMS//EN
BEGIN:VEVENT
UID:22028
DTSTAMP:20260425T171452
DTSTART:20081030T180000
DTEND:20081030T000000
SUMMARY:L'Hora del Conte
LOCATION:
METHOD:PUBLISH
X-WR-CALNAME:e-seu@ajpiera.cat
X-WR-TIMEZONE:Europe/Madrid
DESCRIPTION:"Contes, canterelles i altres meravelles" amb Clara Gavaldà
URI:https://www.viladepiera.cat/actualitat/agenda/lhora-del-conte.html
CLASS:PUBLIC
END:VEVENT
END:VCALENDAR
