BEGIN:VCALENDAR
VERSION:2.0
CALSCALE:GREGORIAN
PRODID:-//Diputació de Barcelona//DibaCMS//EN
BEGIN:VEVENT
UID:22031
DTSTAMP:20260425T143809
DTSTART:20081031T190000
DTEND:20081031T000000
SUMMARY:Cinema: Halloween, el origen
LOCATION:
METHOD:PUBLISH
X-WR-CALNAME:e-seu@ajpiera.cat
X-WR-TIMEZONE:Europe/Madrid
DESCRIPTION:Cinema: Halloween, el origen
URI:https://www.viladepiera.cat/actualitat/agenda/cinema-halloween-el-origen.html
CLASS:PUBLIC
END:VEVENT
END:VCALENDAR
