BEGIN:VCALENDAR
VERSION:2.0
CALSCALE:GREGORIAN
PRODID:-//Diputació de Barcelona//DibaCMS//EN
BEGIN:VEVENT
UID:22032
DTSTAMP:20260425T132041
DTSTART:20081101T220000
DTEND:20081101T000000
SUMMARY:33è Concurs de Teatre
LOCATION:
METHOD:PUBLISH
X-WR-CALNAME:e-seu@ajpiera.cat
X-WR-TIMEZONE:Europe/Madrid
DESCRIPTION:33è Concurs de Teatre
URI:https://www.viladepiera.cat/actualitat/agenda/22032-33e-concurs-de-teatre.html
CLASS:PUBLIC
END:VEVENT
END:VCALENDAR
