BEGIN:VCALENDAR
VERSION:2.0
CALSCALE:GREGORIAN
PRODID:-//Diputació de Barcelona//DibaCMS//EN
BEGIN:VEVENT
UID:22033
DTSTAMP:20260425T133147
DTSTART:20081101T124500
DTEND:20081101T000000
SUMMARY:HC Piera-CP Voltregà
LOCATION:
METHOD:PUBLISH
X-WR-CALNAME:e-seu@ajpiera.cat
X-WR-TIMEZONE:Europe/Madrid
DESCRIPTION:HC Piera-CP Voltregà
URI:https://www.viladepiera.cat/actualitat/agenda/22033-hc-piera-cp-voltrega.html
CLASS:PUBLIC
END:VEVENT
END:VCALENDAR
