BEGIN:VCALENDAR
VERSION:2.0
CALSCALE:GREGORIAN
PRODID:-//Diputació de Barcelona//DibaCMS//EN
BEGIN:VEVENT
UID:22035
DTSTAMP:20260425T145210
DTSTART:20081101T180000
DTEND:20081101T000000
SUMMARY:HC Piera-Mollet HC
LOCATION:
METHOD:PUBLISH
X-WR-CALNAME:e-seu@ajpiera.cat
X-WR-TIMEZONE:Europe/Madrid
DESCRIPTION:HC Piera-Mollet HC
URI:https://www.viladepiera.cat/actualitat/agenda/hc-piera-mollet-hc.html
CLASS:PUBLIC
END:VEVENT
END:VCALENDAR
