BEGIN:VCALENDAR
VERSION:2.0
CALSCALE:GREGORIAN
PRODID:-//Diputació de Barcelona//DibaCMS//EN
BEGIN:VEVENT
UID:22037
DTSTAMP:20260425T143334
DTSTART:20081101T160000
DTEND:20081101T000000
SUMMARY:AE Piera-Base Olèrdola
LOCATION:
METHOD:PUBLISH
X-WR-CALNAME:e-seu@ajpiera.cat
X-WR-TIMEZONE:Europe/Madrid
DESCRIPTION:AE Piera-Base Olèrdola
URI:https://www.viladepiera.cat/actualitat/agenda/ae-piera-base-olerdola.html
CLASS:PUBLIC
END:VEVENT
END:VCALENDAR
