BEGIN:VCALENDAR
VERSION:2.0
CALSCALE:GREGORIAN
PRODID:-//Diputació de Barcelona//DibaCMS//EN
BEGIN:VEVENT
UID:22038
DTSTAMP:20260425T133203
DTSTART:20081102T090000
DTEND:20081102T000000
SUMMARY:EC Piera-CB Vilatorrada
LOCATION:
METHOD:PUBLISH
X-WR-CALNAME:e-seu@ajpiera.cat
X-WR-TIMEZONE:Europe/Madrid
DESCRIPTION:EC Piera-CB Vilatorrada
URI:https://www.viladepiera.cat/actualitat/agenda/ec-piera-cb-vilatorrada.html
CLASS:PUBLIC
END:VEVENT
END:VCALENDAR
