BEGIN:VCALENDAR
VERSION:2.0
CALSCALE:GREGORIAN
PRODID:-//Diputació de Barcelona//DibaCMS//EN
BEGIN:VEVENT
UID:22039
DTSTAMP:20260425T132128
DTSTART:20081102T110000
DTEND:20081102T000000
SUMMARY:EC Piera-Albert Disseny CB
LOCATION:
METHOD:PUBLISH
X-WR-CALNAME:e-seu@ajpiera.cat
X-WR-TIMEZONE:Europe/Madrid
DESCRIPTION:EC Piera-Albert Disseny CB
URI:https://www.viladepiera.cat/actualitat/agenda/ec-piera-albert-disseny-cb.html
CLASS:PUBLIC
END:VEVENT
END:VCALENDAR
